BEGIN:VCALENDAR
VERSION:2.0
PRODID:-//https://www.231music.com///NONSGML kigkonsult.se iCalcreator 2.10.15//
METHOD:PUBLISH
BEGIN:VEVENT
UID:20260419T182733UTC-41638ERWB9@https://www.231music.com/
DTSTAMP:20260419T182733Z
DESCRIPTION: https://www.231music.com/calendar/event/533-country-club-of-bo
 yne
DTSTART:20260529T180000Z
DTEND:20260529T210000Z
LOCATION:Country Club of Boyne (334 Heather Dr\, Harbor Springs\, MI 49740\
 , USA)
SUMMARY:Country Club of Boyne
URL:https://www.231music.com/calendar/event/533-country-club-of-boyne
END:VEVENT
END:VCALENDAR
