BEGIN:VCALENDAR
VERSION:2.0
PRODID:-//https://www.231music.com///NONSGML kigkonsult.se iCalcreator 2.10.15//
METHOD:PUBLISH
BEGIN:VEVENT
UID:20260419T193640UTC-1491AXKUNc@https://www.231music.com/
DTSTAMP:20260419T193640Z
DESCRIPTION: https://www.231music.com/calendar/event/526-walloon-watershed
DTSTART:20261021T180000Z
DTEND:20261021T210000Z
LOCATION:Walloon Watershed (4128 M-75\, Walloon Lake\, MI)
SUMMARY:Walloon Watershed
URL:https://www.231music.com/calendar/event/526-walloon-watershed
END:VEVENT
END:VCALENDAR
