BEGIN:VCALENDAR
VERSION:2.0
PRODID:-//https://www.231music.com///NONSGML kigkonsult.se iCalcreator 2.10.15//
METHOD:PUBLISH
BEGIN:VEVENT
UID:20260419T193543UTC-1332fdtZeh@https://www.231music.com/
DTSTAMP:20260419T193543Z
DESCRIPTION: https://www.231music.com/calendar/event/511-walloon-watershed
DTSTART:20260624T180000Z
DTEND:20260624T210000Z
LOCATION:Walloon Watershed (4128 M-75\, Walloon Lake\, MI)
SUMMARY:Walloon Watershed
URL:https://www.231music.com/calendar/event/511-walloon-watershed
END:VEVENT
END:VCALENDAR
