BEGIN:VCALENDAR
VERSION:2.0
PRODID:-//https://www.231music.com///NONSGML kigkonsult.se iCalcreator 2.10.15//
METHOD:PUBLISH
BEGIN:VEVENT
UID:20260419T182028UTC-7270zSuu82@https://www.231music.com/
DTSTAMP:20260419T182028Z
DESCRIPTION: https://www.231music.com/calendar/event/505-walloon-watershed
DTSTART:20260513T180000Z
DTEND:20260513T210000Z
LOCATION:Walloon Watershed (4128 M-75\, Walloon Lake\, MI)
SUMMARY:Walloon Watershed
URL:https://www.231music.com/calendar/event/505-walloon-watershed
END:VEVENT
END:VCALENDAR
