BEGIN:VCALENDAR
VERSION:2.0
PRODID:-//https://www.231music.com///NONSGML kigkonsult.se iCalcreator 2.10.15//
METHOD:PUBLISH
BEGIN:VEVENT
UID:20260419T165818UTC-7162D8oGEO@https://www.231music.com/
DTSTAMP:20260419T165818Z
DESCRIPTION: https://www.231music.com/calendar/event/503-northern-michigan-
 equine-therapy-benefit
DTSTART:20260502T160000Z
DTEND:20260502T173000Z
LOCATION:Lavendar Hill Farms (7354 Horton Bay Rd N\, Boyne City\, Michigan\
 , 49712)
SUMMARY:Northern Michigan Equine Therapy Benefit
URL:https://www.231music.com/calendar/event/503-northern-michigan-equine-th
 erapy-benefit
END:VEVENT
END:VCALENDAR
