BEGIN:VCALENDAR
VERSION:2.0
PRODID:-//https://www.231music.com///NONSGML kigkonsult.se iCalcreator 2.10.15//
METHOD:PUBLISH
BEGIN:VEVENT
UID:20260419T165755UTC-4079270Ixs@https://www.231music.com/
DTSTAMP:20260419T165755Z
DESCRIPTION: https://www.231music.com/calendar/event/502-northern-lights-re
 creation
DTSTART:20260501T183000Z
DTEND:20260501T213000Z
LOCATION:Northern Lights Recreation (8865 M 119\, Harbor Springs\, Michigan
 \, 49740)
SUMMARY:Northern Lights Recreation
URL:https://www.231music.com/calendar/event/502-northern-lights-recreation
END:VEVENT
END:VCALENDAR
